BEGIN:VCALENDAR
VERSION:2.0
PRODID:-//Anue Water Technologies - ECPv5.1.5//NONSGML v1.0//EN
CALSCALE:GREGORIAN
METHOD:PUBLISH
X-WR-CALNAME:Anue Water Technologies
X-ORIGINAL-URL:https://anuewater.com
X-WR-CALDESC:Events for Anue Water Technologies
BEGIN:VTIMEZONE
TZID:America/New_York
BEGIN:DAYLIGHT
TZOFFSETFROM:-0500
TZOFFSETTO:-0400
TZNAME:EDT
DTSTART:20230312T070000
END:DAYLIGHT
BEGIN:STANDARD
TZOFFSETFROM:-0400
TZOFFSETTO:-0500
TZNAME:EST
DTSTART:20231105T060000
END:STANDARD
END:VTIMEZONE
BEGIN:VEVENT
DTSTART;TZID=America/New_York:20230314T080000
DTEND;TZID=America/New_York:20230316T170000
DTSTAMP:20260424T082823
CREATED:20230308T172010Z
LAST-MODIFIED:20230308T172010Z
UID:4386-1678780800-1678986000@anuewater.com
SUMMARY:Alliance of Indiana Rural Water
DESCRIPTION:\n\n\nFrench Lick Resort – 8670 West State Road 56 French Lick\, Indiana 47432\n\n\n\n
URL:https://anuewater.com/event/alliance-of-indiana-rural-water/
END:VEVENT
END:VCALENDAR